View In:
ArcGIS JavaScript
ArcGIS Online Map Viewer
ArcGIS Earth
Service Description: Secure/Gull_River_DTM
Name: Secure/Gull_River_DTM
Description:
Single Fused Map Cache: false
Extent:
XMin: -8788310.0927
YMin: 5572635.347999997
XMax: -8714285.2785
YMax: 5665593.684899997
Spatial Reference: 102100
(3857)
LatestVCSWkid(0)
Initial Extent:
XMin: -8788310.0927
YMin: 5572635.347999997
XMax: -8714285.2785
YMax: 5665593.684899997
Spatial Reference: 102100
(3857)
LatestVCSWkid(0)
Full Extent:
XMin: -8788310.0927
YMin: 5572635.347999997
XMax: -8714285.2785
YMax: 5665593.684899997
Spatial Reference: 102100
(3857)
LatestVCSWkid(0)
Pixel Size X: 0.49999874501858044
Pixel Size Y: 0.4999991227268057
Band Count: 1
Pixel Type: F32
RasterFunction Infos: {"rasterFunctionInfos": [{
"name": "None",
"description": "",
"help": ""
}]}
Mensuration Capabilities: Basic
Inspection Capabilities:
Has Histograms: true
Has Colormap: false
Has Multi Dimensions : false
Rendering Rule:
Min Scale: 4622324.434309
Max Scale: 564.248588
Min LOD: 7
Max LOD: 20
Resampling: false
Copyright Text:
Service Data Type: esriImageServiceDataTypeGeneric
Min Values: 66.23886108398438
Max Values: 471.8493347167969
Mean Values: 345.78422357962705
Standard Deviation Values: 38.67925260389234
Object ID Field:
Fields:
None
Default Mosaic Method: Center
Allowed Mosaic Methods:
SortField:
SortValue: null
Mosaic Operator: First
Default Compression Quality: 75
Default Resampling Method: Bilinear
Max Record Count: null
Max Image Height: 4100
Max Image Width: 15000
Max Download Image Count: null
Max Mosaic Image Count: null
Allow Raster Function: true
Allow Copy: true
Allow Analysis: true
Allow Compute TiePoints: false
Supports Statistics: false
Supports Advanced Queries: false
Use StandardizedQueries: true
Raster Type Infos:
Name: Raster Dataset
Description: Supports all ArcGIS Raster Datasets
Help:
Has Raster Attribute Table: false
Edit Fields Info: null
Ownership Based AccessControl For Rasters: null
Child Resources:
Info
Histograms
Statistics
Key Properties
Legend
Raster Function Infos
Supported Operations:
Export Image
Identify
Measure
Compute Histograms
Compute Statistics Histograms
Get Samples
Compute Class Statistics
Query Boundary
Compute Pixel Location
Compute Angles
Validate
Project