View In:
ArcGIS JavaScript
ArcGIS Online Map Viewer
ArcGIS Earth
Service Description: Secure/Burnt_River_DTM
Name: Secure/Burnt_River_DTM
Description:
Single Fused Map Cache: false
Extent:
XMin: -8760495.711384254
YMin: 5584322.285897556
XMax: -8692031.80724365
YMax: 5643883.374640921
Spatial Reference: 102100
(3857)
LatestVCSWkid(0)
Initial Extent:
XMin: -8760495.711384254
YMin: 5584322.285897556
XMax: -8692031.80724365
YMax: 5643883.374640921
Spatial Reference: 102100
(3857)
LatestVCSWkid(0)
Full Extent:
XMin: -8760495.711384254
YMin: 5584322.285897556
XMax: -8692031.80724365
YMax: 5643883.374640921
Spatial Reference: 102100
(3857)
LatestVCSWkid(0)
Pixel Size X: 0.49999929992845
Pixel Size Y: 0.4999965476303096
Band Count: 1
Pixel Type: F32
RasterFunction Infos: {"rasterFunctionInfos": [{
"name": "None",
"description": "",
"help": ""
}]}
Mensuration Capabilities: Basic
Inspection Capabilities:
Has Histograms: true
Has Colormap: false
Has Multi Dimensions : false
Rendering Rule:
Min Scale: 4622324.434309
Max Scale: 564.248588
Min LOD: 7
Max LOD: 20
Resampling: false
Copyright Text:
Service Data Type: esriImageServiceDataTypeGeneric
Min Values: 18.851301193237305
Max Values: 471.2276916503906
Mean Values: 350.13909113214766
Standard Deviation Values: 34.6790017228753
Object ID Field:
Fields:
None
Default Mosaic Method: Center
Allowed Mosaic Methods:
SortField:
SortValue: null
Mosaic Operator: First
Default Compression Quality: 75
Default Resampling Method: Bilinear
Max Record Count: null
Max Image Height: 4100
Max Image Width: 15000
Max Download Image Count: null
Max Mosaic Image Count: null
Allow Raster Function: true
Allow Copy: true
Allow Analysis: true
Allow Compute TiePoints: false
Supports Statistics: false
Supports Advanced Queries: false
Use StandardizedQueries: true
Raster Type Infos:
Name: Raster Dataset
Description: Supports all ArcGIS Raster Datasets
Help:
Has Raster Attribute Table: false
Edit Fields Info: null
Ownership Based AccessControl For Rasters: null
Child Resources:
Info
Histograms
Statistics
Key Properties
Legend
Raster Function Infos
Supported Operations:
Export Image
Identify
Measure
Compute Histograms
Compute Statistics Histograms
Get Samples
Compute Class Statistics
Query Boundary
Compute Pixel Location
Compute Angles
Validate
Project